BEGIN:VCALENDAR
VERSION:2.0
PRODID:-//Plone.org//NONSGML plone.app.event//EN
X-WR-TIMEZONE:US/Central
BEGIN:VEVENT
SUMMARY:Movie Event
DTSTART;TZID=US/Central:20160620T173000
DTEND;TZID=US/Central:20160620T190000
DTSTAMP:20260423T234538Z
UID:cd8b6e0b12314fc2bc11e80c7cd6a01d@saas_stack_varnish:6080
CONTACT:Thadious Polasek\, Donna Holub\, Cindy Lytle\, 9797433345\, polase
 k29@gmail.com
CREATED:20160517T222900Z
DESCRIPTION:A Children's movie will be presented  June 20\,2016 in the lib
 rary meeting room.
LAST-MODIFIED:20250403T011233Z
LOCATION:Schulenburg Public Library
URL:https://schulenburg.ploud.net/news-events/lib-cal/movie-event
END:VEVENT
BEGIN:VTIMEZONE
TZID:US/Central
X-LIC-LOCATION:US/Central
BEGIN:DAYLIGHT
DTSTART:20160313T030000
TZNAME:CDT
TZOFFSETFROM:-0600
TZOFFSETTO:-0500
END:DAYLIGHT
END:VTIMEZONE
END:VCALENDAR
