BEGIN:VCALENDAR
VERSION:2.0
PRODID:-//Plone.org//NONSGML plone.app.event//EN
X-WR-TIMEZONE:US/Central
BEGIN:VEVENT
SUMMARY:Movie Night at the Library
DTSTART;TZID=US/Central:20180604T170000
DTEND;TZID=US/Central:20180604T194500
DTSTAMP:20260424T013126Z
UID:15ab2237a5b64a4181c914ebca500575@saas_stack_varnish:6080
CONTACT:Donna Holub\, Cindy Lytle\, and Thadious Polasek\, 979 743 3345\, 
 polasek29@gmail.com
CREATED:20180517T175640Z
DESCRIPTION:The movie will begin at 5PM.   Call the library  for the title
  of the movie that will be shown.
LAST-MODIFIED:20250403T011232Z
LOCATION:Schulenburg Public Libary
URL:https://schulenburg.ploud.net/news-events/lib-cal/movie-night-at-the-l
 ibrary-1
END:VEVENT
BEGIN:VTIMEZONE
TZID:US/Central
X-LIC-LOCATION:US/Central
BEGIN:DAYLIGHT
DTSTART:20180311T030000
TZNAME:CDT
TZOFFSETFROM:-0600
TZOFFSETTO:-0500
END:DAYLIGHT
END:VTIMEZONE
END:VCALENDAR
