BEGIN:VCALENDAR
VERSION:2.0
PRODID:-//Plone.org//NONSGML plone.app.event//EN
X-WR-TIMEZONE:US/Central
BEGIN:VEVENT
SUMMARY:Movie Night
DTSTART;TZID=US/Central:20170717T173000
DTEND;TZID=US/Central:20170717T193000
DTSTAMP:20260424T013015Z
UID:8e52f08cf1a84985aa45e25c84d5786f@saas_stack_varnish:6080
CONTACT:Donna Holub\, Cindy Lytle\, and Thadious Polasek\, 9797433345\, po
 lasek29@gmail.com
CREATED:20170524T163454Z
DESCRIPTION:Movie night at the library.
LAST-MODIFIED:20250403T011232Z
LOCATION:Schulenburg Public Library Meeting Room
URL:https://schulenburg.ploud.net/news-events/lib-cal/movie-night
END:VEVENT
BEGIN:VTIMEZONE
TZID:US/Central
X-LIC-LOCATION:US/Central
BEGIN:DAYLIGHT
DTSTART:20170312T030000
TZNAME:CDT
TZOFFSETFROM:-0600
TZOFFSETTO:-0500
END:DAYLIGHT
END:VTIMEZONE
END:VCALENDAR
