BEGIN:VCALENDAR
VERSION:2.0
PRODID:-//Plone.org//NONSGML plone.app.event//EN
X-WR-TIMEZONE:US/Central
BEGIN:VEVENT
SUMMARY:Movie
DTSTART;TZID=US/Central:20160613T173000
DTEND;TZID=US/Central:20160613T193000
DTSTAMP:20260423T234512Z
UID:2f7273faf7c14ea482083692feb60cd2@saas_stack_varnish:6080
CONTACT:Thadious Polasek\, Cindy Lytle\, & Donna Holub\, 979 743 3345\, po
 lasek29@gmail.com
CREATED:20160608T200826Z
DESCRIPTION:Come to the library to enjoy a children's movie.
LAST-MODIFIED:20250403T011232Z
LOCATION:Schulenburg Public Library
URL:https://schulenburg.ploud.net/news-events/lib-cal/movie
END:VEVENT
BEGIN:VTIMEZONE
TZID:US/Central
X-LIC-LOCATION:US/Central
BEGIN:DAYLIGHT
DTSTART:20160313T030000
TZNAME:CDT
TZOFFSETFROM:-0600
TZOFFSETTO:-0500
END:DAYLIGHT
END:VTIMEZONE
END:VCALENDAR
