BEGIN:VCALENDAR
VERSION:2.0
PRODID:-//Plone.org//NONSGML plone.app.event//EN
X-WR-TIMEZONE:US/Central
BEGIN:VEVENT
SUMMARY:Prevent Bullying
DTSTART;TZID=US/Central:20160629T103000
DTEND;TZID=US/Central:20160629T113000
DTSTAMP:20260423T234512Z
UID:d5bd13f4aedb416ea388acd27b2544a0@saas_stack_varnish:6080
CONTACT:Thadious Polasek\, Donna Holub\, Cindy Lytle\, 9797433345\, polase
 k29@gmail.com
CREATED:20160517T223713Z
DESCRIPTION:The Family Crisis Center of Bastrop Prevention Team will prese
 nt "Anti-Bullying Summer Program."
LAST-MODIFIED:20250403T011233Z
LOCATION:Schulenburg Public Library
URL:https://schulenburg.ploud.net/news-events/lib-cal/prevent-bullying
END:VEVENT
BEGIN:VTIMEZONE
TZID:US/Central
X-LIC-LOCATION:US/Central
BEGIN:DAYLIGHT
DTSTART:20160313T030000
TZNAME:CDT
TZOFFSETFROM:-0600
TZOFFSETTO:-0500
END:DAYLIGHT
END:VTIMEZONE
END:VCALENDAR
