BEGIN:VCALENDAR
VERSION:2.0
PRODID:-//Plone.org//NONSGML plone.app.event//EN
X-WR-TIMEZONE:US/Central
BEGIN:VEVENT
SUMMARY:Puppet Show
DTSTART;TZID=US/Central:20170701T100000
DTEND;TZID=US/Central:20170701T110000
DTSTAMP:20260424T011653Z
UID:bec291e482b84bfa9782c25cc8c5e7bc@saas_stack_varnish:6080
CONTACT:Donna Holub\, Cindy Lytle\, and Thadious Polasek\, 979 743 3345\, 
 polasek29@gmail.com
CREATED:20170519T185953Z
DESCRIPTION:A puppet show will be presented by a group from Houston.
LAST-MODIFIED:20250403T011232Z
LOCATION:Schulenburg Public Library
URL:https://schulenburg.ploud.net/news-events/lib-cal/puppet-show
END:VEVENT
BEGIN:VTIMEZONE
TZID:US/Central
X-LIC-LOCATION:US/Central
BEGIN:DAYLIGHT
DTSTART:20170312T030000
TZNAME:CDT
TZOFFSETFROM:-0600
TZOFFSETTO:-0500
END:DAYLIGHT
END:VTIMEZONE
END:VCALENDAR
