BEGIN:VCALENDAR
VERSION:2.0
PRODID:-//Plone.org//NONSGML plone.app.event//EN
X-WR-TIMEZONE:US/Central
BEGIN:VEVENT
SUMMARY:Schulenburg Friends of the Library Book Sale & Literary Cub Clean 
 Spring Fling
DTSTART;TZID=US/Central:20160429T100000
DTEND;TZID=US/Central:20160507T130000
DTSTAMP:20260423T235113Z
UID:a916f813ae344e2a9d2b92ce94aa032e@saas_stack_varnish:6080
CREATED:20160411T213634Z
DESCRIPTION:The Schulenburg  Friends of the Library  will have a book sale
  April 29 to 30th and May 2 to May 7th.   Also\,\nThe Literary Club Clean 
 Spring Fling will be  in the Schulenburg Public Library Parking lot on May
  7\, 2016 form 8AM to 1PM.
LAST-MODIFIED:20250403T011233Z
LOCATION:Schulenburg Public Library
URL:https://schulenburg.ploud.net/news-events/lib-cal/schulenburg-friends-
 of-the-library-book-sale-literary-cub-clean-spring-fling
END:VEVENT
BEGIN:VTIMEZONE
TZID:US/Central
X-LIC-LOCATION:US/Central
BEGIN:DAYLIGHT
DTSTART:20160313T030000
TZNAME:CDT
TZOFFSETFROM:-0600
TZOFFSETTO:-0500
END:DAYLIGHT
END:VTIMEZONE
END:VCALENDAR
