BEGIN:VCALENDAR
VERSION:2.0
PRODID:-//Plone.org//NONSGML plone.app.event//EN
X-WR-TIMEZONE:US/Central
BEGIN:VEVENT
SUMMARY:Schulenburg Library Friends Book Sale
DTSTART;TZID=US/Central:20180420T100000
DTEND;TZID=US/Central:20180427T180000
DTSTAMP:20260424T013246Z
UID:d296c26f6f104aa48c89d406f44e915d@saas_stack_varnish:6080
CONTACT:Cindy Lytle\, Donna Holub\, and Thadious Polasek
CREATED:20180223T165137Z
DESCRIPTION:The Schulenburg Library Friends Book Sale will be from April 2
 0 to April 28.  The hours of the sale are:\nMonday - Friday 10AM-6PM and S
 aturday April 28th from 9AM to 2PM.
LAST-MODIFIED:20250403T011232Z
LOCATION:Schulenburg Library Meeting Room
URL:https://schulenburg.ploud.net/news-events/lib-cal/schulenburg-library-
 friends-book-sale
END:VEVENT
BEGIN:VTIMEZONE
TZID:US/Central
X-LIC-LOCATION:US/Central
BEGIN:DAYLIGHT
DTSTART:20180311T030000
TZNAME:CDT
TZOFFSETFROM:-0600
TZOFFSETTO:-0500
END:DAYLIGHT
END:VTIMEZONE
END:VCALENDAR
