BEGIN:VCALENDAR
VERSION:2.0
PRODID:-//Plone.org//NONSGML plone.app.event//EN
X-WR-TIMEZONE:US/Central
BEGIN:VEVENT
SUMMARY:Schulenburg Public Library Ten-Year Anniversary Celebration
DTSTART;TZID=US/Central:20190601T093000
DTEND;TZID=US/Central:20190601T113000
DTSTAMP:20260424T013218Z
UID:72488b3b3a8f4fb1ab779dace4ce09a8@saas_stack_varnish:6080
CONTACT:Joyce Kobza\, Cindy Lytle\, Donna Holub\, & Thadious Polasek\, 979
  743 3345\, polasek29@gmail.com
CREATED:20190517T185507Z
DESCRIPTION:Saturday\, June 1\n9:30-11:30 a.m.\nParking Lot of Library\n31
 0 Simpson St.\nSchulenburg
LAST-MODIFIED:20250403T011232Z
LOCATION:Parking Lot of Library
URL:https://schulenburg.ploud.net/news-events/lib-cal/schulenburg-public-l
 ibrary-ten-year-anniversary-celebration
END:VEVENT
BEGIN:VTIMEZONE
TZID:US/Central
X-LIC-LOCATION:US/Central
BEGIN:DAYLIGHT
DTSTART:20190310T030000
TZNAME:CDT
TZOFFSETFROM:-0600
TZOFFSETTO:-0500
END:DAYLIGHT
END:VTIMEZONE
END:VCALENDAR
