BEGIN:VCALENDAR
VERSION:2.0
PRODID:-//Plone.org//NONSGML plone.app.event//EN
X-WR-TIMEZONE:US/Central
BEGIN:VEVENT
SUMMARY:Sea Life Treasures
DTSTART;TZID=US/Central:20160610T103000
DTEND;TZID=US/Central:20160610T113000
DTSTAMP:20260423T234640Z
UID:ce168896d04642de872b35af1a6b1bbc@saas_stack_varnish:6080
CONTACT:Thadious Polasek\, Donna Holub\, and Cindy Lytle\, 979 743 3345\, 
 polasek29@gmail.com
CREATED:20160517T203152Z
DESCRIPTION:Come and learn about a wide variety of marine life.
LAST-MODIFIED:20250403T011233Z
LOCATION:Schulenburg Public Library
URL:https://schulenburg.ploud.net/news-events/lib-cal/sea-life-treasures
END:VEVENT
BEGIN:VTIMEZONE
TZID:US/Central
X-LIC-LOCATION:US/Central
BEGIN:DAYLIGHT
DTSTART:20160313T030000
TZNAME:CDT
TZOFFSETFROM:-0600
TZOFFSETTO:-0500
END:DAYLIGHT
END:VTIMEZONE
END:VCALENDAR
