BEGIN:VCALENDAR
VERSION:2.0
PRODID:-//Plone.org//NONSGML plone.app.event//EN
X-WR-TIMEZONE:US/Central
BEGIN:VEVENT
SUMMARY:Summer Movie Fun
DTSTART;TZID=US/Central:20240610T170000
DTEND;TZID=US/Central:20240610T190000
DTSTAMP:20260424T025615Z
UID:02c3348f8fdc4d26829254bf052a0c00@saas_stack_varnish:6080
CONTACT:Cindy Lytle\, Donna Holub\, or Thadious Polasek\, 979 743 3345\, p
 olasek29@gmail.com
CREATED:20240410T201007Z
DESCRIPTION:Movie Night at the Library!  Come and enjoy a movie and popcor
 n at the library.  The movie will begin at 5PM on Mondays.
LAST-MODIFIED:20250403T011232Z
LOCATION:Schulenburg Public Library
URL:https://schulenburg.ploud.net/news-events/lib-cal/summer-movie-fun
END:VEVENT
BEGIN:VTIMEZONE
TZID:US/Central
X-LIC-LOCATION:US/Central
BEGIN:DAYLIGHT
DTSTART:20240310T030000
TZNAME:CDT
TZOFFSETFROM:-0600
TZOFFSETTO:-0500
END:DAYLIGHT
END:VTIMEZONE
END:VCALENDAR
