BEGIN:VCALENDAR
VERSION:2.0
PRODID:-//Plone.org//NONSGML plone.app.event//EN
X-WR-TIMEZONE:US/Central
BEGIN:VEVENT
SUMMARY:Summer Reading Program - All Together Now
DTSTART;TZID=US/Central:20230601T100000
DTEND;TZID=US/Central:20230611T173000
DTSTAMP:20260424T025436Z
UID:21aefda0a9354b7c9c1d2751c611b2f9@saas_stack_varnish:6080
CONTACT:Donna Holub\, Cindy Lytle\, Thadious Polasek\, 979 743 3345\, pola
 sek29@gmail.com
CREATED:20230502T190605Z
DESCRIPTION:The Summer Reading Program begins June 1\, 2023.  The purpose 
 of the program is to encourage the youth of our community to check out boo
 ks from the Schulenburg Public Library.
LAST-MODIFIED:20250403T011232Z
LOCATION:Schulenburg Public Library
URL:https://schulenburg.ploud.net/news-events/lib-cal/summer-reading-progr
 am-all-together-now
END:VEVENT
BEGIN:VTIMEZONE
TZID:US/Central
X-LIC-LOCATION:US/Central
BEGIN:DAYLIGHT
DTSTART:20230312T030000
TZNAME:CDT
TZOFFSETFROM:-0600
TZOFFSETTO:-0500
END:DAYLIGHT
END:VTIMEZONE
END:VCALENDAR
