BEGIN:VCALENDAR
VERSION:2.0
PRODID:-//Plone.org//NONSGML plone.app.event//EN
X-WR-TIMEZONE:US/Central
BEGIN:VEVENT
SUMMARY:Summer Reading Program
DTSTART;TZID=US/Central:20160531T100000
DTEND;TZID=US/Central:20160713T163000
DTSTAMP:20260423T234226Z
UID:3d1c5aadb8894093bee5ec4ae2e820d9@saas_stack_varnish:6080
CONTACT:Thadious Polasek\, Donna Holub and Cindy Lytle\, 979 743 3345\, Po
 lasek29@gmail.com
CREATED:20160511T212453Z
DESCRIPTION:"On Your Mark\, Get Set...Read"
LAST-MODIFIED:20250403T011233Z
LOCATION:Schulenburg Public Library
URL:https://schulenburg.ploud.net/news-events/lib-cal/summer-reading-progr
 am
END:VEVENT
BEGIN:VTIMEZONE
TZID:US/Central
X-LIC-LOCATION:US/Central
BEGIN:DAYLIGHT
DTSTART:20160313T030000
TZNAME:CDT
TZOFFSETFROM:-0600
TZOFFSETTO:-0500
END:DAYLIGHT
END:VTIMEZONE
END:VCALENDAR
