BEGIN:VCALENDAR
VERSION:2.0
PRODID:-//Plone.org//NONSGML plone.app.event//EN
X-WR-TIMEZONE:US/Central
BEGIN:VEVENT
SUMMARY:Texas Our Texas
DTSTART;TZID=US/Central:20190812T103000
DTSTAMP:20260424T012959Z
UID:5063911e082f4765bcd8cf36253be9cb@saas_stack_varnish:6080
CONTACT:Cindy Lytel\, Donna Holub\, & Thadious Polasek\, 979 743 3345\, po
 lasek29@gmail.com
CREATED:20190805T212127Z
DESCRIPTION:Mike Stroup\, Jody Stelzig\, Robert Herridge\, and Pat Gavin w
 ill present a musical program\, "Texas Our Texas."
LAST-MODIFIED:20250403T011232Z
LOCATION:Schulenburg Public Library
URL:https://schulenburg.ploud.net/news-events/lib-cal/texas-our-texas
END:VEVENT
BEGIN:VTIMEZONE
TZID:US/Central
X-LIC-LOCATION:US/Central
BEGIN:DAYLIGHT
DTSTART:20190310T030000
TZNAME:CDT
TZOFFSETFROM:-0600
TZOFFSETTO:-0500
END:DAYLIGHT
END:VTIMEZONE
END:VCALENDAR
