BEGIN:VCALENDAR
VERSION:2.0
PRODID:-//Plone.org//NONSGML plone.app.event//EN
X-WR-TIMEZONE:US/Central
BEGIN:VEVENT
SUMMARY:Wildlife Rocks
DTSTART;TZID=US/Central:20180629T103000
DTEND;TZID=US/Central:20180629T113000
DTSTAMP:20260424T012546Z
UID:9222ac6e07994d6fa060e496072849f4@saas_stack_varnish:6080
CONTACT:Donna Holub\, Cindy Lytle\, and Thadious Polasek\, 979 743 3345\, 
 Polasek29@gmail.com
CREATED:20180518T155214Z
DESCRIPTION:Ranger Cindy Baker\, Outreach Coordinator of the Lavaca-Navida
 d River Authority and Brackenridge Recreation Complex Texana Park & Campgr
 ound from Edna\, Texas presents “Wildlife Rocks” with her animal frien
 ds\, Caramel\, Lucky and Gator at 10:30 AM.
LAST-MODIFIED:20250403T011232Z
LOCATION:Schulenburg Public Library
URL:https://schulenburg.ploud.net/news-events/lib-cal/wildlife-rocks
END:VEVENT
BEGIN:VTIMEZONE
TZID:US/Central
X-LIC-LOCATION:US/Central
BEGIN:DAYLIGHT
DTSTART:20180311T030000
TZNAME:CDT
TZOFFSETFROM:-0600
TZOFFSETTO:-0500
END:DAYLIGHT
END:VTIMEZONE
END:VCALENDAR
