BEGIN:VCALENDAR
VERSION:2.0
PRODID:-//Plone.org//NONSGML plone.app.event//EN
X-WR-TIMEZONE:US/Central
BEGIN:VEVENT
SUMMARY:The Library is Closed.
DTSTART;TZID=US/Central:20200317T100000
DTEND;TZID=US/Central:20200404T200000
DTSTAMP:20260424T013015Z
UID:0b00904025b24bc59df8b561161ed5ad@saas_stack_varnish:6080
CREATED:20200317T162706Z
DESCRIPTION:We value our relationship with our community and are committed
  to keeping you informed of any changes within our organization that may h
 ave impacts on normal business activity.  At this time\, we will close the
  lobby of the public library as of Tuesday\, March 17\, 2020.  We WILL be 
 available to you by phone and our online tools through our website.   Any 
 updates will be made available\, as soon as we are notified.\n\n The healt
 h and safety of our employees\, their families\, our customers and our com
 munity is important to us.  The City of Schulenburg will continue to monit
 or and respond to direction from our County Officials and Emergency Manage
 ment Coordinator\, Craig Moreau\, as well as the (CDC) Centers for Disease
  Control Prevention \, World Health Organization (WHO)\, state and local h
 ealth authorities and will inform our employees and adjust as directed.\n\
 nDo not fear if you are unable to return library materials that are curren
 tly checked out and have a due date during the time we are closed. We will
  be waiving overdue fines only for materials due while we are closed.  Cal
 l to renew your books or renew on line.\n\nIn the meantime\, continue to f
 ollow all the precautionary tips and tools provided to you.\n\n \n\nhttps:
 //www.co.fayette.tx.us/
LAST-MODIFIED:20200330T213528Z
URL:https://schulenburg.ploud.net/news-events/lib-events/the-library-is-cl
 osed
END:VEVENT
BEGIN:VTIMEZONE
TZID:US/Central
X-LIC-LOCATION:US/Central
BEGIN:DAYLIGHT
DTSTART:20200308T030000
TZNAME:CDT
TZOFFSETFROM:-0600
TZOFFSETTO:-0500
END:DAYLIGHT
END:VTIMEZONE
END:VCALENDAR
