BEGIN:VCALENDAR
VERSION:2.0
PRODID:-//Plone.org//NONSGML plone.app.event//EN
X-WR-TIMEZONE:US/Central
BEGIN:VEVENT
SUMMARY:"Color Our World" is the 2025 Summer Reading Program Theme
DTSTART;TZID=US/Central:20250519T100000
DTEND;TZID=US/Central:20250519T180000
DTSTAMP:20260423T222445Z
UID:38274374d4fa4e63a953a0272ad50b0d@saas_stack_varnish:6080
CONTACT:Donna Holub\, Cindy Lytle\, Thadious Polasek\, 979 743 3345
CREATED:20250506T194206Z
DESCRIPTION:The purpose of this program is to encourage the youth of our c
 ommunity to check out books from The Schulenburg Public Library.  The 2025
  Summer Reading Program is for the following age groups:  \nRead-To-Me (in
 fant to 4 year olds).  A parent or guardian is required to read 15 books t
 o the child.  \nAge 5-9\, the child is required to read 15 books.   \nAge 
 10-12\, the child is required to read 10 Chapter books.  \nFamilies are in
 vited to join the 2025 Texas Reading Program!  By doing so\, you will help
  your child retain hard-earned reading skills acquired during the school y
 ear.  Parents should bring their child or children to check out books from
  the Schulenburg Public Library.  ONLY BOOKS from the Schulenburg Public L
 ibrary can be recorded on the child's reading log.  The books HAVE TO BE T
 AKEN HOME and read. Parents or Guardians may sign their child or children 
 up after reading their books they checked out from the library.  The Readi
 ng Program begins on June 2\, 2025 and will end on July 29\, 2025.  The li
 brary has much more to offer.  Come and check out he scheduled events.  Yo
 u can contact the Library at (979)743 3345 for a schedule of planned event
 s.  Joining the library is FREE and ALL PROGRAMS ARE FREE OF CHARGE.
LAST-MODIFIED:20250509T170711Z
LOCATION:Schulenburg Public Library
URL:https://schulenburg.ploud.net/news-events/lib-news/color-our-world-is-
 the-2025-summer-reading-program-theme
END:VEVENT
BEGIN:VTIMEZONE
TZID:US/Central
X-LIC-LOCATION:US/Central
BEGIN:DAYLIGHT
DTSTART:20250309T030000
TZNAME:CDT
TZOFFSETFROM:-0600
TZOFFSETTO:-0500
END:DAYLIGHT
END:VTIMEZONE
END:VCALENDAR
