BEGIN:VCALENDAR
VERSION:2.0
PRODID:-//Plone.org//NONSGML plone.app.event//EN
X-WR-TIMEZONE:US/Central
BEGIN:VEVENT
SUMMARY:Free Chess Lessons from 04:45 PM to 05:45 PM Schulenburg Public Li
 brary
DTSTART;TZID=US/Central:20250507T171500
DTEND;TZID=US/Central:20250507T174500
DTSTAMP:20260423T222513Z
UID:415a6ccf44b842dba59c20f77946617f@saas_stack_varnish:6080
CREATED:20250506T195413Z
DESCRIPTION:The Schulenburg Chess Club is offering free chess lessons at t
 he Schulenburg Public Library on Wednesdays from 4:45pm to 5:45pm.  Regist
 ration is required. Please call 979 743 3345 to register for the class. Se
 ating is limited.
LAST-MODIFIED:20250509T170713Z
URL:https://schulenburg.ploud.net/news-events/lib-news/free-chess-lessons-
 from-04-45-pm-to-05-45-pm-schulenburg-public-library
END:VEVENT
BEGIN:VTIMEZONE
TZID:US/Central
X-LIC-LOCATION:US/Central
BEGIN:DAYLIGHT
DTSTART:20250309T030000
TZNAME:CDT
TZOFFSETFROM:-0600
TZOFFSETTO:-0500
END:DAYLIGHT
END:VTIMEZONE
END:VCALENDAR
