BEGIN:VCALENDAR
VERSION:2.0
PRODID:-//Plone.org//NONSGML plone.app.event//EN
X-WR-TIMEZONE:US/Central
BEGIN:VEVENT
SUMMARY:German Music
DTSTART;TZID=US/Central:20220720T103000
DTEND;TZID=US/Central:20220720T113000
DTSTAMP:20260424T030330Z
UID:0b5629faf3b14d0f9298d3bfd8c922ee@saas_stack_varnish:6080
CONTACT:Donna Holub\, Cindy Lytle\, or Thadious Polasek\, 9797433345\, pol
 asek29@gmail.com
CREATED:20220715T183102Z
DESCRIPTION:"Das Ist Lustig" German Music Performers will present a deligh
 tful musical performance for all ages on July 20 at 10:30am.
LAST-MODIFIED:20220715T183121Z
LOCATION:Schulenburg Public Library - 310 Simpson St.
URL:https://schulenburg.ploud.net/news-events/lib-news/german-music
END:VEVENT
BEGIN:VTIMEZONE
TZID:US/Central
X-LIC-LOCATION:US/Central
BEGIN:DAYLIGHT
DTSTART:20220313T030000
TZNAME:CDT
TZOFFSETFROM:-0600
TZOFFSETTO:-0500
END:DAYLIGHT
END:VTIMEZONE
END:VCALENDAR
