BEGIN:VCALENDAR
VERSION:2.0
PRODID:-//Plone.org//NONSGML plone.app.event//EN
X-WR-TIMEZONE:US/Central
BEGIN:VEVENT
SUMMARY:Library Book Sale
DTSTART;TZID=US/Central:20190426T100000
DTEND;TZID=US/Central:20190426T180000
DTSTAMP:20260424T012720Z
UID:9cb67ec8d50d4685ac364c8a67da92b9@saas_stack_varnish:6080
CONTACT:Cindy Lytel\, Donna Holub\, & Thadious Polasek\, 9797433345\, pola
 sek29@gmail.com
CREATED:20190308T201751Z
LAST-MODIFIED:20190308T201801Z
LOCATION:Schulenburg  Public Library Meeting Room
URL:https://schulenburg.ploud.net/news-events/lib-news/library-book-sale
END:VEVENT
BEGIN:VTIMEZONE
TZID:US/Central
X-LIC-LOCATION:US/Central
BEGIN:DAYLIGHT
DTSTART:20190310T030000
TZNAME:CDT
TZOFFSETFROM:-0600
TZOFFSETTO:-0500
END:DAYLIGHT
END:VTIMEZONE
END:VCALENDAR
