BEGIN:VCALENDAR
VERSION:2.0
PRODID:-//Plone.org//NONSGML plone.app.event//EN
X-WR-TIMEZONE:US/Central
BEGIN:VEVENT
SUMMARY:Monty The Magician
DTSTART;TZID=US/Central:20250620T101500
DTEND;TZID=US/Central:20250620T111500
DTSTAMP:20260423T222145Z
UID:0c75c227b8c44f08a7c749faea37e322@saas_stack_varnish:6080
CONTACT:Cindy Lytle\, Donna Holub\, or Thadious Polasek\, 979 743 3345\, s
 chulenburgpubliclibrary@yahoo.com
CREATED:20250506T213408Z
DESCRIPTION:Monty The Magician from Houston\, Texas.  A magical fun advent
 ure to amaze\, amuse and astound.  Monty's  live pet dove\,  "Whisper" wil
 l make a magical appearance.
LAST-MODIFIED:20250509T170712Z
LOCATION:Schulenburg Public Library
URL:https://schulenburg.ploud.net/news-events/lib-news/monty-the-magician
END:VEVENT
BEGIN:VTIMEZONE
TZID:US/Central
X-LIC-LOCATION:US/Central
BEGIN:DAYLIGHT
DTSTART:20250309T030000
TZNAME:CDT
TZOFFSETFROM:-0600
TZOFFSETTO:-0500
END:DAYLIGHT
END:VTIMEZONE
END:VCALENDAR
