BEGIN:VCALENDAR
VERSION:2.0
PRODID:-//Plone.org//NONSGML plone.app.event//EN
X-WR-TIMEZONE:US/Central
BEGIN:VEVENT
SUMMARY:Movie Night
DTSTART;TZID=US/Central:20230612T170000
DTEND;TZID=US/Central:20230612T193000
DTSTAMP:20260424T042620Z
UID:f06f4a4db34b455ca4cce5d5d30636c9@saas_stack_varnish:6080
CONTACT:Donna Holub\, Cindy Lytle\, Thadious Polasek\, 979 743 3345\, pola
 sek29@gmail.com
CREATED:20230502T193654Z
DESCRIPTION:The movie will begin at 5p.m.
LAST-MODIFIED:20230522T153107Z
LOCATION:Library meeting room.
URL:https://schulenburg.ploud.net/news-events/lib-news/movie-night
END:VEVENT
BEGIN:VTIMEZONE
TZID:US/Central
X-LIC-LOCATION:US/Central
BEGIN:DAYLIGHT
DTSTART:20230312T030000
TZNAME:CDT
TZOFFSETFROM:-0600
TZOFFSETTO:-0500
END:DAYLIGHT
END:VTIMEZONE
END:VCALENDAR
