BEGIN:VCALENDAR
VERSION:2.0
PRODID:-//Plone.org//NONSGML plone.app.event//EN
X-WR-TIMEZONE:US/Central
BEGIN:VEVENT
SUMMARY:Living a Healthy Life with Chronic Conditions
DTSTART;TZID=US/Central:20240801T103000
DTEND;TZID=US/Central:20240801T130000
DTSTAMP:20260424T013716Z
UID:35dc5f9626bd4e1a8db817eac828f5d8@saas_stack_varnish:6080
CONTACT:Cindy Lytle\, Donna Holub\, or Thadious Polasek\, 979 968 5831
CREATED:20240719T201851Z
DESCRIPTION:This FREE program emphasizes the skills needed in day-to-day m
 anagement of treatment and to maintain or increase activity.
LAST-MODIFIED:20240719T202310Z
LOCATION:Library meeting room.
URL:https://schulenburg.ploud.net/news-events/living-a-healthy-life-with-c
 hronic-conditions-1
END:VEVENT
BEGIN:VTIMEZONE
TZID:US/Central
X-LIC-LOCATION:US/Central
BEGIN:DAYLIGHT
DTSTART:20240310T030000
TZNAME:CDT
TZOFFSETFROM:-0600
TZOFFSETTO:-0500
END:DAYLIGHT
END:VTIMEZONE
END:VCALENDAR
