BEGIN:VCALENDAR
VERSION:2.0
PRODID:-//Plone.org//NONSGML plone.app.event//EN
X-WR-TIMEZONE:US/Central
BEGIN:VEVENT
SUMMARY:Living a Healthy Life with Chronic Conditions
DTSTART;TZID=US/Central:20240822T103000
DTEND;TZID=US/Central:20240822T130000
DTSTAMP:20260424T013639Z
UID:8e5a999777f54647b757cdf2a27b270a@saas_stack_varnish:6080
CONTACT:Donna Holub\, Cindy Lytle\, Thadious Polasek\, 979 968 5831
CREATED:20240719T203536Z
DESCRIPTION:This FREE program emphasizes the skills needed in day-to-day m
 anagement of treatment and to maintain or increase activity.
LAST-MODIFIED:20240719T203556Z
LOCATION:Library meeting room.
URL:https://schulenburg.ploud.net/news-events/living-a-healthy-life-with-c
 hronic-conditions-3
END:VEVENT
BEGIN:VTIMEZONE
TZID:US/Central
X-LIC-LOCATION:US/Central
BEGIN:DAYLIGHT
DTSTART:20240310T030000
TZNAME:CDT
TZOFFSETFROM:-0600
TZOFFSETTO:-0500
END:DAYLIGHT
END:VTIMEZONE
END:VCALENDAR
