BEGIN:VCALENDAR
VERSION:2.0
PRODID:-//Plone.org//NONSGML plone.app.event//EN
X-WR-TIMEZONE:US/Central
BEGIN:VEVENT
SUMMARY:Lone Star Disc Dogs
DTSTART;TZID=US/Central:20240621T101500
DTEND;TZID=US/Central:20240621T114500
DTSTAMP:20260424T025727Z
UID:f07e992783fe40b9ada4f8c8569e6b16@saas_stack_varnish:6080
CONTACT:Cindy Lytle\, Donna Holub\, or Thadious Polasek\, 979 743 3345\, p
 olasek29@gmail.com
CREATED:20240515T150732Z
DESCRIPTION:Lone Star Disc Dogs from Austin\, Texas.  Join in the fun for 
 a super\, exciting performance with some “AMAZING” high flying dogs.
LAST-MODIFIED:20240515T150753Z
LOCATION:Schulenburg Public Library
URL:https://schulenburg.ploud.net/news-events/lone-star-disc-dogs-1
END:VEVENT
BEGIN:VTIMEZONE
TZID:US/Central
X-LIC-LOCATION:US/Central
BEGIN:DAYLIGHT
DTSTART:20240310T030000
TZNAME:CDT
TZOFFSETFROM:-0600
TZOFFSETTO:-0500
END:DAYLIGHT
END:VTIMEZONE
END:VCALENDAR
