BEGIN:VCALENDAR
VERSION:2.0
PRODID:-//Plone.org//NONSGML plone.app.event//EN
X-WR-TIMEZONE:US/Central
BEGIN:VEVENT
SUMMARY:Movie Matinee Afternoons
DTSTART;TZID=US/Central:20210610T150000
DTEND;TZID=US/Central:20210610T170000
DTSTAMP:20260424T012715Z
UID:95929b766dfd45268b6958104c55351e@saas_stack_varnish:6080
CONTACT:Cindy Lytle and Donna Holub\, 9797433345
CREATED:20210526T203741Z
DESCRIPTION:Movie Matinee Afternoons\nWhen: Designated afternoons in the\n
               Months of June\, July & August.\nWhere: Schulenburg Public L
 ibrary\n               310 Simpson\n The library will show once every othe
 r week \n a movie in the Kid Zone Area.\n Parents may call the library at 
 743-3345\n to check what movie will be shown and also\n the time.    Limit
 ed seating is available\, so call to make your reservation.  First come\, 
 first served.
LAST-MODIFIED:20210527T215150Z
URL:https://schulenburg.ploud.net/news-events/movie-matinee-afternoons
END:VEVENT
BEGIN:VTIMEZONE
TZID:US/Central
X-LIC-LOCATION:US/Central
BEGIN:DAYLIGHT
DTSTART:20210314T030000
TZNAME:CDT
TZOFFSETFROM:-0600
TZOFFSETTO:-0500
END:DAYLIGHT
END:VTIMEZONE
END:VCALENDAR
