BEGIN:VCALENDAR
VERSION:2.0
PRODID:-//Plone.org//NONSGML plone.app.event//EN
X-WR-TIMEZONE:US/Central
BEGIN:VEVENT
SUMMARY:Movie Night
DTSTART;TZID=US/Central:20220718T170000
DTEND;TZID=US/Central:20220718T194500
DTSTAMP:20260424T025426Z
UID:6ffd84f13a0a4dd993b1b6bf6e5e8c76@saas_stack_varnish:6080
CONTACT:Donna Holub\, Cindy Lytle\, or Thadious Polasek\, 9797433345\, pol
 asek29@gmail.com
CREATED:20220512T174800Z
DESCRIPTION:The Schulenburg Public Library will have a Movie Night startin
 g at 5 pm.
LAST-MODIFIED:20220512T174820Z
LOCATION:Schulenburg Public Library - 310 Simpson St.
URL:https://schulenburg.ploud.net/news-events/movie-night-6
END:VEVENT
BEGIN:VTIMEZONE
TZID:US/Central
X-LIC-LOCATION:US/Central
BEGIN:DAYLIGHT
DTSTART:20220313T030000
TZNAME:CDT
TZOFFSETFROM:-0600
TZOFFSETTO:-0500
END:DAYLIGHT
END:VTIMEZONE
END:VCALENDAR
