BEGIN:VCALENDAR
VERSION:2.0
PRODID:-//Plone.org//NONSGML plone.app.event//EN
X-WR-TIMEZONE:US/Central
BEGIN:VEVENT
SUMMARY:Radical Reptiles
DTSTART;TZID=US/Central:20230721T101500
DTEND;TZID=US/Central:20230721T111500
DTSTAMP:20260424T041811Z
UID:b4b12c4d7d9f4e398e6481b27379d157@saas_stack_varnish:6080
CONTACT:Donna Holub\, Cindy Lytle\, Thadious Polasek\, 979 743 3345\, pola
 sek29@gmail.com
CREATED:20230503T184844Z
DESCRIPTION:"Radical Reptiles" - Edna\, Texas\nThe Education Program Direc
 tor will give a nature awareness presentation using live animals teaching 
 about their habitat and safety with nature.
LAST-MODIFIED:20230503T184909Z
LOCATION:Schulenburg Public Library
URL:https://schulenburg.ploud.net/news-events/radical-reptiles
END:VEVENT
BEGIN:VTIMEZONE
TZID:US/Central
X-LIC-LOCATION:US/Central
BEGIN:DAYLIGHT
DTSTART:20230312T030000
TZNAME:CDT
TZOFFSETFROM:-0600
TZOFFSETTO:-0500
END:DAYLIGHT
END:VTIMEZONE
END:VCALENDAR
