BEGIN:VCALENDAR
VERSION:2.0
PRODID:-//Plone.org//NONSGML plone.app.event//EN
X-WR-TIMEZONE:US/Central
BEGIN:VEVENT
SUMMARY:Rocking Bubble Show
DTSTART;TZID=US/Central:20230714T101500
DTEND;TZID=US/Central:20230714T111500
DTSTAMP:20260424T042539Z
UID:18183c5b9fc34b58920779500efc04b2@saas_stack_varnish:6080
CONTACT:Donna Holub\, Cindy Lytle\, Thadious Polasek\, 979 743 3345\, pola
 sek29@gmail.com
CREATED:20230503T184239Z
DESCRIPTION:Come meet Anton Mackey and Kristina Mosbo from College Station
 \, Texas as they put on a show whit all types of Bubble Creations.
LAST-MODIFIED:20230503T184316Z
LOCATION:Schulenburg Public Library
URL:https://schulenburg.ploud.net/news-events/rocking-bubble-show
END:VEVENT
BEGIN:VTIMEZONE
TZID:US/Central
X-LIC-LOCATION:US/Central
BEGIN:DAYLIGHT
DTSTART:20230312T030000
TZNAME:CDT
TZOFFSETFROM:-0600
TZOFFSETTO:-0500
END:DAYLIGHT
END:VTIMEZONE
END:VCALENDAR
