BEGIN:VCALENDAR
VERSION:2.0
PRODID:-//Plone.org//NONSGML plone.app.event//EN
X-WR-TIMEZONE:US/Central
BEGIN:VEVENT
SUMMARY:Rural Arts of Texas
DTSTART;TZID=US/Central:20240628T101500
DTEND;TZID=US/Central:20240628T111500
DTSTAMP:20260424T013051Z
UID:ee1ed0301b4b4ed4ada9ceaaf68c943f@saas_stack_varnish:6080
CONTACT:Cindy Lytle\, Donna Holub\, or Thadious Polasek\, 979 743 3345\, p
 olasek29@gmail.com
CREATED:20240515T151414Z
DESCRIPTION:Rural Arts of Texas presents an interactive Sing-A-Long featur
 ing Sue Young.  This sing-along invites you to embark on a thrilling explo
 ration with the walls of the library.
LAST-MODIFIED:20240515T151442Z
LOCATION:Schulenburg Public Library
URL:https://schulenburg.ploud.net/news-events/rural-arts-of-texas
END:VEVENT
BEGIN:VTIMEZONE
TZID:US/Central
X-LIC-LOCATION:US/Central
BEGIN:DAYLIGHT
DTSTART:20240310T030000
TZNAME:CDT
TZOFFSETFROM:-0600
TZOFFSETTO:-0500
END:DAYLIGHT
END:VTIMEZONE
END:VCALENDAR
