BEGIN:VCALENDAR
VERSION:2.0
PRODID:-//Plone.org//NONSGML plone.app.event//EN
X-WR-TIMEZONE:US/Central
BEGIN:VEVENT
SUMMARY:Schulenburg Friends Book Sale
DTSTART;TZID=US/Central:20230522T100000
DTEND;TZID=US/Central:20230522T190000
DTSTAMP:20260424T025749Z
UID:face5d40c8564bdf87f069c3f5003f95@saas_stack_varnish:6080
CONTACT:Donna Holub\, Cindy Lytle\, Thadious Polasek\, 979 743 3345\, pola
 sek29@gmail.com
CREATED:20230420T164239Z
DESCRIPTION:The Friends of the Schulenburg Public Library will be having a
  book sale in the library meeting room.
LAST-MODIFIED:20230420T164309Z
LOCATION:Library meeting room.
URL:https://schulenburg.ploud.net/news-events/schulenburg-friends-book-sal
 e
END:VEVENT
BEGIN:VTIMEZONE
TZID:US/Central
X-LIC-LOCATION:US/Central
BEGIN:DAYLIGHT
DTSTART:20230312T030000
TZNAME:CDT
TZOFFSETFROM:-0600
TZOFFSETTO:-0500
END:DAYLIGHT
END:VTIMEZONE
END:VCALENDAR
