BEGIN:VCALENDAR
VERSION:2.0
PRODID:-//Plone.org//NONSGML plone.app.event//EN
X-WR-TIMEZONE:US/Central
BEGIN:VEVENT
SUMMARY:Sea Life Craft
DTSTART;TZID=US/Central:20220603T103000
DTEND;TZID=US/Central:20220603T123000
DTSTAMP:20260424T030055Z
UID:bdddc4304725454ea6f16f2e30cc2d52@saas_stack_varnish:6080
CONTACT:Donna Holub\, Cindy Lytle\, or Thadious Polasek\, 979 743 3345\, p
 olasek29@gmail.com
CREATED:20220511T215930Z
DESCRIPTION:"Arts for Rural Texas" from Fayetteville\, Texas will do a Sea
  Life craft.
LAST-MODIFIED:20220511T220831Z
LOCATION:Schulenburg Public Library - 310 Simpson St.
URL:https://schulenburg.ploud.net/news-events/sea-life-craft
END:VEVENT
BEGIN:VTIMEZONE
TZID:US/Central
X-LIC-LOCATION:US/Central
BEGIN:DAYLIGHT
DTSTART:20220313T030000
TZNAME:CDT
TZOFFSETFROM:-0600
TZOFFSETTO:-0500
END:DAYLIGHT
END:VTIMEZONE
END:VCALENDAR
