BEGIN:VCALENDAR
VERSION:2.0
PRODID:-//Plone.org//NONSGML plone.app.event//EN
X-WR-TIMEZONE:US/Central
BEGIN:VEVENT
SUMMARY:Smokey The Bear And Fire Safety.
DTSTART;TZID=US/Central:20220624T103000
DTEND;TZID=US/Central:20220624T114500
DTSTAMP:20260424T031800Z
UID:74442e52249e446faa9c7964cf3f710a@saas_stack_varnish:6080
CONTACT:Donna Holub\, Cindy Lytle\, or Thadious Polasek\, 9797433345\, pol
 asek29@gmail.com
CREATED:20220512T173547Z
DESCRIPTION:Smokey The Bear And Fire Safety. \nWilliam Hood from College S
 tation\, Texas will give an informative program on fire prevention. Come m
 eet Smokey.
LAST-MODIFIED:20220512T173619Z
LOCATION:Schulenburg Public Library - 310 Simpson St.
URL:https://schulenburg.ploud.net/news-events/smokey-the-bear-and-fire-saf
 ety
END:VEVENT
BEGIN:VTIMEZONE
TZID:US/Central
X-LIC-LOCATION:US/Central
BEGIN:DAYLIGHT
DTSTART:20220313T030000
TZNAME:CDT
TZOFFSETFROM:-0600
TZOFFSETTO:-0500
END:DAYLIGHT
END:VTIMEZONE
END:VCALENDAR
