BEGIN:VCALENDAR
VERSION:2.0
PRODID:-//Plone.org//NONSGML plone.app.event//EN
X-WR-TIMEZONE:US/Central
BEGIN:VEVENT
SUMMARY:Summer Movie Fun
DTSTART;TZID=US/Central:20240617T170000
DTEND;TZID=US/Central:20240617T190000
DTSTAMP:20260424T025533Z
UID:fbf919b9de774c49979666f8d725dc42@saas_stack_varnish:6080
CONTACT:Cindy Lytle\, Donna Holub\, or Thadious Polasek\, 979 743 3345\, p
 olasek29@gmail.com
CREATED:20240410T204150Z
DESCRIPTION:Movie Night at the Library!  Come and enjoy a movie and popcor
 n at the library.  The movie will begin at 5PM on Mondays.
LAST-MODIFIED:20240410T204207Z
LOCATION:Schulenburg Public Library
URL:https://schulenburg.ploud.net/news-events/summer-movie-fun-8
END:VEVENT
BEGIN:VTIMEZONE
TZID:US/Central
X-LIC-LOCATION:US/Central
BEGIN:DAYLIGHT
DTSTART:20240310T030000
TZNAME:CDT
TZOFFSETFROM:-0600
TZOFFSETTO:-0500
END:DAYLIGHT
END:VTIMEZONE
END:VCALENDAR
