BEGIN:VCALENDAR
VERSION:2.0
PRODID:-//Plone.org//NONSGML plone.app.event//EN
X-WR-TIMEZONE:US/Central
BEGIN:VEVENT
SUMMARY:Summer Reading Program Sign Up
DTSTART;TZID=US/Central:20240603T100000
DTEND;TZID=US/Central:20240603T200000
DTSTAMP:20260424T025246Z
UID:b093172312b04c7d8bfa21dcd25c0d83@saas_stack_varnish:6080
CONTACT:Cindy Lytle\, Donna Holub\, or Thadious Polasek\, 979 743 3345
CREATED:20240515T145359Z
DESCRIPTION:Sign-up starts for the Summer Reading Program.  This year’s 
 theme\, Adventure Begins at Your Library.
LAST-MODIFIED:20240515T145423Z
LOCATION:Schulenburg Public Library
URL:https://schulenburg.ploud.net/news-events/summer-reading-program-sign-
 up-1
END:VEVENT
BEGIN:VTIMEZONE
TZID:US/Central
X-LIC-LOCATION:US/Central
BEGIN:DAYLIGHT
DTSTART:20240310T030000
TZNAME:CDT
TZOFFSETFROM:-0600
TZOFFSETTO:-0500
END:DAYLIGHT
END:VTIMEZONE
END:VCALENDAR
