BEGIN:VCALENDAR
VERSION:2.0
PRODID:-//Plone.org//NONSGML plone.app.event//EN
X-WR-TIMEZONE:US/Central
BEGIN:VEVENT
SUMMARY:Summer Reading Program Sign-Up
DTSTART;TZID=US/Central:20220601T100000
DTSTAMP:20260424T030550Z
UID:21ab96be60574ea88efd7ac850de41ca@saas_stack_varnish:6080
CONTACT:Donna Holub\, Cindy Lytle\, or Thadious Polasek\, 9797433345\, pol
 asek29@gmail.com
CREATED:20220511T213204Z
DESCRIPTION:Sign-Up starts for the Summer Reading Program June 1\, 2022. T
 his year’s theme is\, “ Oceans Of Possibilities.”
LAST-MODIFIED:20220511T215237Z
LOCATION:Schulenburg Public Library - 310 Simpson St.
URL:https://schulenburg.ploud.net/news-events/summer-reading-program-sign-
 up
END:VEVENT
BEGIN:VTIMEZONE
TZID:US/Central
X-LIC-LOCATION:US/Central
BEGIN:DAYLIGHT
DTSTART:20220313T030000
TZNAME:CDT
TZOFFSETFROM:-0600
TZOFFSETTO:-0500
END:DAYLIGHT
END:VTIMEZONE
END:VCALENDAR
