BEGIN:VCALENDAR
VERSION:2.0
PRODID:-//Plone.org//NONSGML plone.app.event//EN
X-WR-TIMEZONE:US/Central
BEGIN:VEVENT
SUMMARY:The Fayette County Community Theater
DTSTART;TZID=US/Central:20230707T101500
DTEND;TZID=US/Central:20230707T111500
DTSTAMP:20260424T043603Z
UID:cfad1861c4d04ab99c02140b7cc03faa@saas_stack_varnish:6080
CONTACT:Donna Holub\, Cindy Lytle\, Thadious Polasek\, 979 743 3345\, pola
 sek29@gmail.com
CREATED:20230503T162636Z
DESCRIPTION:The Fayette County Community Theater is excited to visit the l
 ibrary and present exciting puppet stories as part of the "All Together No
 w" Library Program.
LAST-MODIFIED:20230503T162702Z
LOCATION:Schulenburg Public Library
URL:https://schulenburg.ploud.net/news-events/the-fayette-county-community
 -theater
END:VEVENT
BEGIN:VTIMEZONE
TZID:US/Central
X-LIC-LOCATION:US/Central
BEGIN:DAYLIGHT
DTSTART:20230312T030000
TZNAME:CDT
TZOFFSETFROM:-0600
TZOFFSETTO:-0500
END:DAYLIGHT
END:VTIMEZONE
END:VCALENDAR
